BEGIN:VCALENDAR
VERSION:2.0
PRODID:-//RawstorneSingers - ECPv6.15.20//NONSGML v1.0//EN
CALSCALE:GREGORIAN
METHOD:PUBLISH
X-WR-CALNAME:RawstorneSingers
X-ORIGINAL-URL:https://rawstornesingers.co.uk
X-WR-CALDESC:Events for RawstorneSingers
REFRESH-INTERVAL;VALUE=DURATION:PT1H
X-Robots-Tag:noindex
X-PUBLISHED-TTL:PT1H
BEGIN:VTIMEZONE
TZID:Europe/London
BEGIN:DAYLIGHT
TZOFFSETFROM:+0000
TZOFFSETTO:+0100
TZNAME:BST
DTSTART:20240331T010000
END:DAYLIGHT
BEGIN:STANDARD
TZOFFSETFROM:+0100
TZOFFSETTO:+0000
TZNAME:GMT
DTSTART:20241027T010000
END:STANDARD
BEGIN:DAYLIGHT
TZOFFSETFROM:+0000
TZOFFSETTO:+0100
TZNAME:BST
DTSTART:20250330T010000
END:DAYLIGHT
BEGIN:STANDARD
TZOFFSETFROM:+0100
TZOFFSETTO:+0000
TZNAME:GMT
DTSTART:20251026T010000
END:STANDARD
BEGIN:DAYLIGHT
TZOFFSETFROM:+0000
TZOFFSETTO:+0100
TZNAME:BST
DTSTART:20260329T010000
END:DAYLIGHT
BEGIN:STANDARD
TZOFFSETFROM:+0100
TZOFFSETTO:+0000
TZNAME:GMT
DTSTART:20261025T010000
END:STANDARD
BEGIN:DAYLIGHT
TZOFFSETFROM:+0000
TZOFFSETTO:+0100
TZNAME:BST
DTSTART:20270328T010000
END:DAYLIGHT
BEGIN:STANDARD
TZOFFSETFROM:+0100
TZOFFSETTO:+0000
TZNAME:GMT
DTSTART:20271031T010000
END:STANDARD
END:VTIMEZONE
BEGIN:VEVENT
DTSTART;TZID=Europe/London:20251203T193000
DTEND;TZID=Europe/London:20251203T213000
DTSTAMP:20260421T211025
CREATED:20250603T211211Z
LAST-MODIFIED:20251110T194841Z
UID:10127-1764790200-1764797400@rawstornesingers.co.uk
SUMMARY:Come and Sing - Christmas - Rehearsal
DESCRIPTION:BOOK YOUR PLACE HERE \nCome and learn the music before performing with us at our concert on 10th December \nRehearsal is on Wednesday 3rd December 2025 at 7.30pm at St Leonards Church . \nBook your place  by Friday 28th November  – There is a £5 charge for use of music and light refreshments will be provided. \n 
URL:https://rawstornesingers.co.uk/event/come-and-sing-christmas-rehearsal-4/
LOCATION:St Leonards Church Penwortham\, Marshalls Brow Penwortham\, Preston\, PR1 9HY\, United Kingdom
CATEGORIES:Come and Sing
ATTACH;FMTTYPE=image/jpeg:https://rawstornesingers.co.uk/wp-content/uploads/2025/11/CCASP25-e1762804525562.jpeg
ORGANIZER;CN="Rawstorne Singers":MAILTO:rawstornesingers@gmail.com
END:VEVENT
BEGIN:VEVENT
DTSTART;TZID=Europe/London:20251205T193000
DTEND;TZID=Europe/London:20251205T210000
DTSTAMP:20260421T211025
CREATED:20250603T210813Z
LAST-MODIFIED:20250920T210827Z
UID:10125-1764963000-1764968400@rawstornesingers.co.uk
SUMMARY:Derian House Lights of Love - Blackburn Cathedral - 2025
DESCRIPTION:Derian House’s Invite Only annual Lights of Love celebration returns to illuminate Blackburn Cathedral on Friday 5th December 2025 at 7:30pm.Join us for a magical evening of your favourite Christmas carols performed by The Rawstorne Singers as well as uplifting music from ???\, and more!\nRefreshments will be available to purchase on the evening together with a range of Derian House merchandise and Christmas gifts. \nhttps://www.derianhouse.co.uk/events/lights-of-love-2025/
URL:https://rawstornesingers.co.uk/event/derian-house-lights-of-love-blackburn-cathedral-2025/
LOCATION:Blackburn Cathedral\, Cathedral Close\, Blackburn\, BB1 5AA\, United Kingdom
CATEGORIES:Concerts
ATTACH;FMTTYPE=image/jpeg:https://rawstornesingers.co.uk/wp-content/uploads/2025/09/lightsoflove.jpg
END:VEVENT
BEGIN:VEVENT
DTSTART;TZID=Europe/London:20251210T193000
DTEND;TZID=Europe/London:20251210T213000
DTSTAMP:20260421T211025
CREATED:20250603T211431Z
LAST-MODIFIED:20251110T194928Z
UID:10128-1765395000-1765402200@rawstornesingers.co.uk
SUMMARY:Christmas Concert 2025
DESCRIPTION:Come and learn the music before performing with us at our concert on 10th December \nRehearsal is on Wednesday 3rd December 2025 at 7.30pm at St Leonards Church . \nEveryone is welcome to attend our concert\, free of charge\, but donations gladly received.\nPlease let us know if you would like to join us by booking your place via email or trybooking.com  by Friday 28th November 2025.
URL:https://rawstornesingers.co.uk/event/christmas-concert-2025/
LOCATION:St Leonards Church Penwortham\, Marshalls Brow Penwortham\, Preston\, PR1 9HY\, United Kingdom
CATEGORIES:Come and Sing,Concerts
ATTACH;FMTTYPE=image/jpeg:https://rawstornesingers.co.uk/wp-content/uploads/2025/11/CCASC25-e1762804586606.jpeg
ORGANIZER;CN="Rawstorne Singers":MAILTO:rawstornesingers@gmail.com
END:VEVENT
BEGIN:VEVENT
DTSTART;TZID=Europe/London:20251214T140000
DTEND;TZID=Europe/London:20251214T150000
DTSTAMP:20260421T211025
CREATED:20250920T205606Z
LAST-MODIFIED:20251023T174912Z
UID:10162-1765720800-1765724400@rawstornesingers.co.uk
SUMMARY:Carol Singing @ Chews Yard
DESCRIPTION:RS will be singing Carols @ Chews Yard in the afternoon.
URL:https://rawstornesingers.co.uk/event/carol-singing-chews-yard-2/
LOCATION:Chews Yard\, 103-111 MARKET STREET WEST\, PRESTON\, PR1 2HB\, United Kingdom
CATEGORIES:Concerts
ATTACH;FMTTYPE=image/jpeg:https://rawstornesingers.co.uk/wp-content/uploads/2025/09/chewsyard.jpg
END:VEVENT
BEGIN:VEVENT
DTSTART;TZID=Europe/London:20260412T000000
DTEND;TZID=Europe/London:20260412T235959
DTSTAMP:20260421T211025
CREATED:20260204T115319Z
LAST-MODIFIED:20260320T135009Z
UID:10194-1775952000-1776038399@rawstornesingers.co.uk
SUMMARY:Services at Liverpool Cathedral
DESCRIPTION:Services on Sunday \n12 April    Liverpool Anglican Cathedral  2nd Sunday of Easter \n10.30am     Eucharist \nMass Setting Stanford in B-flat \nPsalm       16 (S Wesley) \nMotet       Michael Haydn : Alleluia \n3.00pm      Evensong \nIntroit       Charles Wood\, arranged by Philip Ledger : This joyful Eastertide \nResponses   Stephen Carletti \nPsalm       30. 1-5 (Turle) \nCanticles   Herbert Howells in b minor \nAnthem    S S Wesley : Blessed be the God and Father \nPicture Sourced from Balasz Gabor on Pexel
URL:https://rawstornesingers.co.uk/event/services-at-liverpool-cathedral-4/
LOCATION:Liverpool Cathedral\, St James Mt\, Liverpool\, L17AZ\, United Kingdom
CATEGORIES:Cathedral Services
ATTACH;FMTTYPE=image/jpeg:https://rawstornesingers.co.uk/wp-content/uploads/2026/02/pexels-gaborbalazs97-24781895.jpg
ORGANIZER;CN="Rawstorne Singers":MAILTO:rawstornesingers@gmail.com
END:VEVENT
BEGIN:VEVENT
DTSTART;TZID=Europe/London:20260620T000000
DTEND;TZID=Europe/London:20260620T235959
DTSTAMP:20260421T211025
CREATED:20260204T114232Z
LAST-MODIFIED:20260204T114247Z
UID:10186-1781913600-1781999999@rawstornesingers.co.uk
SUMMARY:Come and Sing - Rutter's Requiem
DESCRIPTION:Come and join the Rawstorne Singers for a day of singing\, followed by a short concert. Lunch and refreshments included.\n10:00 Arrival\n10:30 12:30 Morning rehearsal\n12:30 Lunch\n13:30 – 15:30 Afternoon rehearsal\n16:00 Concert – Free Entry\, donations welcom \nBook tickets now using the following link  \n 
URL:https://rawstornesingers.co.uk/event/come-and-sing-rutter-requiem/
LOCATION:St Leonards Church Penwortham\, Marshalls Brow Penwortham\, Preston\, PR1 9HY\, United Kingdom
CATEGORIES:Come and Sing,Concerts
ATTACH;FMTTYPE=image/png:https://rawstornesingers.co.uk/wp-content/uploads/2026/02/Come-and-Sing-Rutter-720.png.png
ORGANIZER;CN="Rawstorne Singers":MAILTO:rawstornesingers@gmail.com
END:VEVENT
BEGIN:VEVENT
DTSTART;TZID=Europe/London:20260726T000000
DTEND;TZID=Europe/London:20260726T235959
DTSTAMP:20260421T211025
CREATED:20260204T120410Z
LAST-MODIFIED:20260204T120410Z
UID:10196-1785024000-1785110399@rawstornesingers.co.uk
SUMMARY:Services at Blackburn Cathedral
DESCRIPTION:Sunday Services in the Cathedral
URL:https://rawstornesingers.co.uk/event/services-at-blackburn-cathedral-7/
LOCATION:Blackburn Cathedral\, Cathedral Close\, Blackburn\, BB1 5AA\, United Kingdom
CATEGORIES:Cathedral Services
ATTACH;FMTTYPE=image/jpeg:https://rawstornesingers.co.uk/wp-content/uploads/2024/06/Blackburn_Cathedral_from_the_northwest_2.jpeg
ORGANIZER;CN="Rawstorne Singers":MAILTO:rawstornesingers@gmail.com
END:VEVENT
BEGIN:VEVENT
DTSTART;TZID=Europe/London:20260813T000000
DTEND;TZID=Europe/London:20260816T235959
DTSTAMP:20260421T211025
CREATED:20250920T212648Z
LAST-MODIFIED:20260204T121513Z
UID:10168-1786579200-1786924799@rawstornesingers.co.uk
SUMMARY:Durham Cathedral - Summer Visit
DESCRIPTION:Summer Visit \nPictured Sourced from Frank Samet on Pexels
URL:https://rawstornesingers.co.uk/event/durham-cathedral-summer-visit-2/
LOCATION:Durham Cathedral\, The College\, Durham\, County Durham\, DH1 3EH\, United Kingdom
CATEGORIES:Cathedral Services,Course
ATTACH;FMTTYPE=image/jpeg:https://rawstornesingers.co.uk/wp-content/uploads/2025/09/pexels-frank-samet-208343604-14211178.jpg
ORGANIZER;CN="Rawstorne Singers":MAILTO:rawstornesingers@gmail.com
END:VEVENT
BEGIN:VEVENT
DTSTART;TZID=Europe/London:20261001T180000
DTEND;TZID=Europe/London:20261001T190000
DTSTAMP:20260421T211025
CREATED:20260404T125413Z
LAST-MODIFIED:20260404T131349Z
UID:10221-1790877600-1790881200@rawstornesingers.co.uk
SUMMARY:RS @ Harris Museum - Preston Arts Association
DESCRIPTION:As part of the Preston Arts Association PAA Festival. RS will be joining a number of other choirs for a performance. Our slot is at 6pm.
URL:https://rawstornesingers.co.uk/event/rs-harris-museum-preston-arts-association/
LOCATION:Harris Museum\, Market Square\, Preston\, PR212PP\, United Kingdom
CATEGORIES:Concerts
ATTACH;FMTTYPE=image/jpeg:https://rawstornesingers.co.uk/wp-content/uploads/2026/04/IMG_8051-1.jpeg
END:VEVENT
BEGIN:VEVENT
DTSTART;TZID=Europe/London:20261024T000000
DTEND;TZID=Europe/London:20261025T235959
DTSTAMP:20260421T211025
CREATED:20260204T121048Z
LAST-MODIFIED:20260204T122421Z
UID:10198-1792800000-1792972799@rawstornesingers.co.uk
SUMMARY:Services at Beverley Minster
DESCRIPTION:Weekend visit to Beverley Minster \nPicture Sourced from David Pickup on Pexels
URL:https://rawstornesingers.co.uk/event/services-at-beverley-minster/
LOCATION:Beverley Minster\, 38 Highgate\, Beverley\, East Riding of Yorkshire\, HU17 0DN · 92 mi\, Beverley HU17 0DN\, United Kingdom
CATEGORIES:Church Services
ATTACH;FMTTYPE=image/jpeg:https://rawstornesingers.co.uk/wp-content/uploads/2026/02/pexels-davidpickup-30387395.jpg
ORGANIZER;CN="Rawstorne Singers":MAILTO:rawstornesingers@gmail.com
END:VEVENT
END:VCALENDAR