BEGIN:VCALENDAR
VERSION:2.0
PRODID:-//RawstorneSingers - ECPv6.15.20//NONSGML v1.0//EN
CALSCALE:GREGORIAN
METHOD:PUBLISH
X-WR-CALNAME:RawstorneSingers
X-ORIGINAL-URL:https://rawstornesingers.co.uk
X-WR-CALDESC:Events for RawstorneSingers
REFRESH-INTERVAL;VALUE=DURATION:PT1H
X-Robots-Tag:noindex
X-PUBLISHED-TTL:PT1H
BEGIN:VTIMEZONE
TZID:Europe/London
BEGIN:DAYLIGHT
TZOFFSETFROM:+0000
TZOFFSETTO:+0100
TZNAME:BST
DTSTART:20200329T010000
END:DAYLIGHT
BEGIN:STANDARD
TZOFFSETFROM:+0100
TZOFFSETTO:+0000
TZNAME:GMT
DTSTART:20201025T010000
END:STANDARD
BEGIN:DAYLIGHT
TZOFFSETFROM:+0000
TZOFFSETTO:+0100
TZNAME:BST
DTSTART:20210328T010000
END:DAYLIGHT
BEGIN:STANDARD
TZOFFSETFROM:+0100
TZOFFSETTO:+0000
TZNAME:GMT
DTSTART:20211031T010000
END:STANDARD
BEGIN:DAYLIGHT
TZOFFSETFROM:+0000
TZOFFSETTO:+0100
TZNAME:BST
DTSTART:20220327T010000
END:DAYLIGHT
BEGIN:STANDARD
TZOFFSETFROM:+0100
TZOFFSETTO:+0000
TZNAME:GMT
DTSTART:20221030T010000
END:STANDARD
BEGIN:DAYLIGHT
TZOFFSETFROM:+0000
TZOFFSETTO:+0100
TZNAME:BST
DTSTART:20230326T010000
END:DAYLIGHT
BEGIN:STANDARD
TZOFFSETFROM:+0100
TZOFFSETTO:+0000
TZNAME:GMT
DTSTART:20231029T010000
END:STANDARD
BEGIN:DAYLIGHT
TZOFFSETFROM:+0000
TZOFFSETTO:+0100
TZNAME:BST
DTSTART:20240331T010000
END:DAYLIGHT
BEGIN:STANDARD
TZOFFSETFROM:+0100
TZOFFSETTO:+0000
TZNAME:GMT
DTSTART:20241027T010000
END:STANDARD
BEGIN:DAYLIGHT
TZOFFSETFROM:+0000
TZOFFSETTO:+0100
TZNAME:BST
DTSTART:20250330T010000
END:DAYLIGHT
BEGIN:STANDARD
TZOFFSETFROM:+0100
TZOFFSETTO:+0000
TZNAME:GMT
DTSTART:20251026T010000
END:STANDARD
END:VTIMEZONE
BEGIN:VEVENT
DTSTART;TZID=Europe/London:20241211T193000
DTEND;TZID=Europe/London:20241211T213000
DTSTAMP:20260419T222134
CREATED:20240622T215404Z
LAST-MODIFIED:20240921T135143Z
UID:629-1733945400-1733952600@rawstornesingers.co.uk
SUMMARY:Come and Sing - Christmas - Rehearsal
DESCRIPTION:BOOK YOUR PLACE HERE \nCome and learn the music before performing with us at our concert on 18th December \nRehearsal is on Wednesday 11th December 2024 at 7.30pm at St Leonards Church . \nBook your place  by Friday 6th December  – There is a £5 charge for use of music and light refreshments will be provided. \n 
URL:https://rawstornesingers.co.uk/event/come-and-sing-christmas-rehearsal-2024/
LOCATION:St Leonards Church Penwortham\, Marshalls Brow Penwortham\, Preston\, PR1 9HY\, United Kingdom
CATEGORIES:Come and Sing
ATTACH;FMTTYPE=image/png:https://rawstornesingers.co.uk/wp-content/uploads/2024/06/Screenshot-2024-09-21-at-13.07.47-e1726920602192.png
ORGANIZER;CN="Rawstorne Singers":MAILTO:rawstornesingers@gmail.com
END:VEVENT
BEGIN:VEVENT
DTSTART;TZID=Europe/London:20241209T140000
DTEND;TZID=Europe/London:20241209T150000
DTSTAMP:20260419T222134
CREATED:20240921T160120Z
LAST-MODIFIED:20240921T160120Z
UID:10091-1733752800-1733756400@rawstornesingers.co.uk
SUMMARY:Carol Singing @ Chews Yard
DESCRIPTION:RS will be singing Carols @ Chews Yard
URL:https://rawstornesingers.co.uk/event/carol-singing-chews-yard/
LOCATION:Chews Yard\, 103-111 MARKET STREET WEST\, PRESTON\, PR1 2HB\, United Kingdom
ATTACH;FMTTYPE=image/jpeg:https://rawstornesingers.co.uk/wp-content/uploads/2024/06/Concert_blank.jpg
END:VEVENT
BEGIN:VEVENT
DTSTART;TZID=Europe/London:20241206T193000
DTEND;TZID=Europe/London:20241206T210000
DTSTAMP:20260419T222134
CREATED:20240622T220317Z
LAST-MODIFIED:20250603T210657Z
UID:638-1733513400-1733518800@rawstornesingers.co.uk
SUMMARY:Derian House Lights of Love - Blackburn Cathedral - 2024
DESCRIPTION:Derian House’s Invite Only annual Lights of Love celebration returns to illuminate Blackburn Cathedral on Friday 6th December 2025 at 7:30pm.Join us for a magical evening of your favourite Christmas carols performed by The Rawstorne Singers as well as uplifting music from ???\, and more!\nRefreshments will be available to purchase on the evening together with a range of Derian House merchandise and Christmas gifts. \nhttps://www.derianhouse.co.uk/events/lights-of-love-2024/
URL:https://rawstornesingers.co.uk/event/lights-of-love-blackburn-cathedral-2024/
LOCATION:Blackburn Cathedral\, Cathedral Close\, Blackburn\, BB1 5AA\, United Kingdom
CATEGORIES:Concerts
ATTACH;FMTTYPE=image/png:https://rawstornesingers.co.uk/wp-content/uploads/2024/06/Screenshot-2024-09-21-at-15.00.59.png
END:VEVENT
BEGIN:VEVENT
DTSTART;TZID=Europe/London:20241026T000000
DTEND;TZID=Europe/London:20241027T235959
DTSTAMP:20260419T222134
CREATED:20240622T215106Z
LAST-MODIFIED:20240622T215106Z
UID:625-1729900800-1730073599@rawstornesingers.co.uk
SUMMARY:Services at Ripon Cathedral
DESCRIPTION:RS are singing a weekend of Services at Ripon Cathedral
URL:https://rawstornesingers.co.uk/event/services-at-ripon-cathedral/
LOCATION:Ripon Cathedral\, Ripon Cathedral\, Minster Rd\, Ripon\, HG4 1QT\, United Kingdom
CATEGORIES:Cathedral Services
ATTACH;FMTTYPE=image/jpeg:https://rawstornesingers.co.uk/wp-content/uploads/2024/06/Cathedral_Ripon_1.jpg
ORGANIZER;CN="Rawstorne Singers":MAILTO:rawstornesingers@gmail.com
END:VEVENT
BEGIN:VEVENT
DTSTART;TZID=Europe/London:20240808T000000
DTEND;TZID=Europe/London:20240811T235959
DTSTAMP:20260419T222134
CREATED:20240614T133147Z
LAST-MODIFIED:20240710T190822Z
UID:47-1723075200-1723420799@rawstornesingers.co.uk
SUMMARY:Hereford Cathedral Summer Visit
DESCRIPTION:Our Summer Visit – Singing 6 services on behalf of the cathedral \n8 August Hereford Cathedral\nResponses Carletti\nPsalm 41\, 42\, 43\nCanticles Willan in E-flat\nAnthem Ives : O for a closer walk with God \n9 August Hereford Cathedral (Chamber Organ?)\nResponses Ayleward\nPsalm 47\, 48\, 49\nCanticles Ayleward : Short Service\nAnthem William Byrd : Teach me\, O Lord \n10 August Hereford Cathedral\nResponses Reading\nPsalm 53\, 54\, 55\nCanticles Bairstow in G\nAnthem Bairstow : Save us\, O Lord \n11 August Hereford Cathedral\n10.00am Eucharist\nMass Setting Betty McGlade : Missa Brevis\nPsalm 34. 1-8\nMotet Gail Randall : The Call \n11.30am Matins\nReponses John Reading\nPsalm 90. 1-12\nTe Deum C V Stanford in C\nJubilate C V Stanford in C\nAnthem C V Stanford Purest and Highest \n3.30pm Evensong\nIntroit Richard Lloyd : View me\, Lord\nResponses Stephen Carletti\nPsalm 91\nCanticles Wood in D\nAnthem Harwood : O how glorious
URL:https://rawstornesingers.co.uk/event/hereford-cathedral-summer-visit/
LOCATION:Hereford Cathedral\, 5 College Cloisters\, Cathedral Close\, Hereford\, HR1 2NG\, United Kingdom
CATEGORIES:Cathedral Services,Course
ATTACH;FMTTYPE=image/webp:https://rawstornesingers.co.uk/wp-content/uploads/2024/06/761a8f_e61d18ea536444cbaa15ee5784e7d041mv2.jpg-2.webp
ORGANIZER;CN="Rawstorne Singers":MAILTO:rawstornesingers@gmail.com
END:VEVENT
BEGIN:VEVENT
DTSTART;TZID=Europe/London:20240728T180000
DTEND;TZID=Europe/London:20240728T190000
DTSTAMP:20260419T222134
CREATED:20240615T130954Z
LAST-MODIFIED:20240710T130027Z
UID:80-1722189600-1722193200@rawstornesingers.co.uk
SUMMARY:Choral Evensong at St Leonards Church Penwortham
DESCRIPTION:Join us at St Leonards! RS will be singing the Evensong @ St Leonards as part of their regular worship. \nMusic List \nIntroit Stanford : Jubilate in C\nResponses Carletti\nPsalm 74. 11-16\nCanticles Bairstow in G\nAnthem Basil Harwood : O how glorious\nStanford : Te Deum in C \n@Choir – don’t forget to be there at 5pm for a warm up!
URL:https://rawstornesingers.co.uk/event/service-st-leonards-church/
LOCATION:St Leonards Church Penwortham\, Marshalls Brow Penwortham\, Preston\, PR1 9HY\, United Kingdom
CATEGORIES:Church Services
ATTACH;FMTTYPE=image/jpeg:https://rawstornesingers.co.uk/wp-content/uploads/2024/06/StLeonards280724.jpeg
ORGANIZER;CN="Rawstorne Singers":MAILTO:rawstornesingers@gmail.com
END:VEVENT
BEGIN:VEVENT
DTSTART;TZID=Europe/London:20240519T160000
DTEND;TZID=Europe/London:20240519T170000
DTSTAMP:20260419T222134
CREATED:20240622T214146Z
LAST-MODIFIED:20240622T214146Z
UID:620-1716134400-1716138000@rawstornesingers.co.uk
SUMMARY:A Choral Celebration
DESCRIPTION:Rawstorne singers are singing a Concert at St Michaels Preston. \nChoral favourites including music by Stanford\, Bairstow & Mendelssohn
URL:https://rawstornesingers.co.uk/event/a-choral-celebration/
LOCATION:St Michael and All Angels with St Marks\, 2 Egerton Rd Ashton-on-Ribble\, Preston\, PR2 1AJ\, United Kingdom
CATEGORIES:Concerts
ATTACH;FMTTYPE=image/jpeg:https://rawstornesingers.co.uk/wp-content/uploads/2024/06/436320122_18055270651603563_6138419303119184133_n.jpg
ORGANIZER;CN="Rawstorne Singers":MAILTO:rawstornesingers@gmail.com
END:VEVENT
BEGIN:VEVENT
DTSTART;TZID=Europe/London:20240414T000000
DTEND;TZID=Europe/London:20240414T235959
DTSTAMP:20260419T222134
CREATED:20240618T102519Z
LAST-MODIFIED:20240618T122503Z
UID:346-1713052800-1713139199@rawstornesingers.co.uk
SUMMARY:Services at Blackburn Cathedral
DESCRIPTION:Sunday Services in the Cathedral
URL:https://rawstornesingers.co.uk/event/services-at-blackburn-cathedral-3/
LOCATION:Blackburn Cathedral\, Cathedral Close\, Blackburn\, BB1 5AA\, United Kingdom
CATEGORIES:Cathedral Services
ATTACH;FMTTYPE=image/jpeg:https://rawstornesingers.co.uk/wp-content/uploads/2024/06/Blackburn_Cathedral_from_the_northwest_2.jpeg
ORGANIZER;CN="Rawstorne Singers":MAILTO:rawstornesingers@gmail.com
END:VEVENT
BEGIN:VEVENT
DTSTART;TZID=Europe/London:20231213T193000
DTEND;TZID=Europe/London:20231213T213000
DTSTAMP:20260419T222134
CREATED:20240618T074150Z
LAST-MODIFIED:20240618T122421Z
UID:316-1702495800-1702503000@rawstornesingers.co.uk
SUMMARY:Christmas Concert
DESCRIPTION:Rehearsal is on Wednesday 6th December 2023 at 7.30pm at St Ambrose Church\, Moss Lane\, Leyland\, PR25 4XA.There is a £5 charge for use of music and light refreshments will be provided.\nThen join the Rawstorne Singers on Wednesday 13th December 2023 in a Christmas Concert at 7.30pm at St Ambrose Church.\nEveryone is welcome to attend\, free of charge\, but donations gladly received.\nPlease let us know if you would like to join us by booking your place via email or our website by Friday 1st December 2023.
URL:https://rawstornesingers.co.uk/event/christmas-concert-2/
LOCATION:St Ambrose Church\, Moss Ln\, Leyland\, PR25 4XA\, United Kingdom
CATEGORIES:Come and Sing,Concerts
ATTACH;FMTTYPE=image/jpeg:https://rawstornesingers.co.uk/wp-content/uploads/2024/06/comeandsing2023.jpg
ORGANIZER;CN="Rawstorne Singers":MAILTO:rawstornesingers@gmail.com
END:VEVENT
BEGIN:VEVENT
DTSTART;TZID=Europe/London:20231206T193000
DTEND;TZID=Europe/London:20231206T213000
DTSTAMP:20260419T222134
CREATED:20240618T102519Z
LAST-MODIFIED:20240618T122241Z
UID:348-1701891000-1701898200@rawstornesingers.co.uk
SUMMARY:Come and Sing - Christmas - Rehearsal
DESCRIPTION:Rehearsal is on Wednesday 6th December 2023 at 7.30pm at St Ambrose Church\, Moss Lane\, Leyland\, PR25 4XA.There is a £5 charge for use of music and light refreshments will be provided.\nThen join the Rawstorne Singers on Wednesday 13th December 2022 in a Christmas Concert at 7.30pm at St Ambrose Church.\nEveryone is welcome to attend\, free of charge\, but donations gladly received.\nPlease let us know if you would like to join us by booking your place via email or our website by Friday 1st December 2023.
URL:https://rawstornesingers.co.uk/event/come-and-sing-christmas-rehearsal/
LOCATION:St Ambrose Church\, Moss Ln\, Leyland\, PR25 4XA\, United Kingdom
CATEGORIES:Come and Sing
ATTACH;FMTTYPE=image/jpeg:https://rawstornesingers.co.uk/wp-content/uploads/2024/06/Copy-of-Christmas-come-and-sing-1.jpeg
ORGANIZER;CN="Rawstorne Singers":MAILTO:rawstornesingers@gmail.com
END:VEVENT
BEGIN:VEVENT
DTSTART;TZID=Europe/London:20231201T190000
DTEND;TZID=Europe/London:20231201T210000
DTSTAMP:20260419T222134
CREATED:20240618T102519Z
LAST-MODIFIED:20240618T121043Z
UID:349-1701457200-1701464400@rawstornesingers.co.uk
SUMMARY:Lights of Love - Blackburn cathedral
DESCRIPTION:Derian House’s Invite Only annual Lights of Love celebration returns to illuminate Blackburn Cathedral on Friday 1st December 2023 at 7:30pm.Join us for a magical evening of your favourite Christmas carols performed by The Rawstorne Singers as well as uplifting music from The Local Vocals Choir\, and more!\nRefreshments will be available to purchase on the evening together with a range of Derian House merchandise and Christmas gifts. \nhttps://www.derianhouse.co.uk/events/lights-of-love-2023/
URL:https://rawstornesingers.co.uk/event/lights-of-love-blackburn-cathedral/
LOCATION:Blackburn Cathedral\, Cathedral Close\, Blackburn\, BB1 5AA\, United Kingdom
CATEGORIES:Concerts
ATTACH;FMTTYPE=image/jpeg:https://rawstornesingers.co.uk/wp-content/uploads/2024/06/LOL2023.jpg
ORGANIZER;CN="Rawstorne Singers":MAILTO:rawstornesingers@gmail.com
END:VEVENT
BEGIN:VEVENT
DTSTART;TZID=Europe/London:20231028T120000
DTEND;TZID=Europe/London:20231029T170000
DTSTAMP:20260419T222134
CREATED:20240618T102519Z
LAST-MODIFIED:20240618T122144Z
UID:350-1698494400-1698598800@rawstornesingers.co.uk
SUMMARY:Services at Liverpool Cathedral
DESCRIPTION:
URL:https://rawstornesingers.co.uk/event/services-at-liverpool-cathedral/
LOCATION:Liverpool Cathedral\, St James Mt\, Liverpool\, L17AZ\, United Kingdom
CATEGORIES:Cathedral Services
ATTACH;FMTTYPE=image/jpeg:https://rawstornesingers.co.uk/wp-content/uploads/2024/06/liverpool-cathedral-not-copy-right-.jpeg
ORGANIZER;CN="Rawstorne Singers":MAILTO:rawstornesingers@gmail.com
END:VEVENT
BEGIN:VEVENT
DTSTART;TZID=Europe/London:20230810T000000
DTEND;TZID=Europe/London:20230814T235959
DTSTAMP:20260419T222134
CREATED:20240618T102521Z
LAST-MODIFIED:20240618T122105Z
UID:351-1691625600-1692057599@rawstornesingers.co.uk
SUMMARY:Summer course at Christ Church Oxford Cathedral
DESCRIPTION:
URL:https://rawstornesingers.co.uk/event/summer-course-at-christ-church-oxford-cathedral/
LOCATION:Christ Church Oxford Cathedral\, St Aldate's\, Oxford\, OX11DP\, United Kingdom
CATEGORIES:Cathedral Services,Course
ATTACH;FMTTYPE=image/jpeg:https://rawstornesingers.co.uk/wp-content/uploads/2024/06/IMG_2311.jpg
ORGANIZER;CN="Rawstorne Singers":MAILTO:rawstornesingers@gmail.com
END:VEVENT
BEGIN:VEVENT
DTSTART;TZID=Europe/London:20230716T000000
DTEND;TZID=Europe/London:20230716T235959
DTSTAMP:20260419T222134
CREATED:20240618T102521Z
LAST-MODIFIED:20240618T122024Z
UID:352-1689465600-1689551999@rawstornesingers.co.uk
SUMMARY:Services at Blackburn Cathedral
DESCRIPTION:Sunday Services in the Cathedral
URL:https://rawstornesingers.co.uk/event/services-at-blackburn-cathedral-4/
LOCATION:Blackburn Cathedral\, Cathedral Close\, Blackburn\, BB1 5AA\, United Kingdom
CATEGORIES:Cathedral Services
ATTACH;FMTTYPE=image/jpeg:https://rawstornesingers.co.uk/wp-content/uploads/2024/06/Blackburn_Cathedral_from_the_northwest_2.jpeg
ORGANIZER;CN="Rawstorne Singers":MAILTO:rawstornesingers@gmail.com
END:VEVENT
BEGIN:VEVENT
DTSTART;TZID=Europe/London:20230520T000000
DTEND;TZID=Europe/London:20230520T235959
DTSTAMP:20260419T222134
CREATED:20240618T102522Z
LAST-MODIFIED:20240618T121738Z
UID:353-1684540800-1684627199@rawstornesingers.co.uk
SUMMARY:Come and Sing - Faure's Requiem
DESCRIPTION:Come and join the Rawstorne Singers for a day of singing\, followed by a short concert. Lunch and refreshments included.\n11:00 Arrival\n11:30 13:30 Morning rehearsal\n13:30 Lunch\n14:30 – 16:00 Afternoon rehearsal\n16:00 Afternoon tea & cake\n17:00 Concert \nBook tickets now using the following link https://www.trybooking.com/uk/events/landing?eid=37362&
URL:https://rawstornesingers.co.uk/event/come-and-sing-faures-requiem/
LOCATION:St Aidan’s Church\, Station Rd Bamber Bridge\, Preston\, PR5 6QR\, United Kingdom
CATEGORIES:Come and Sing,Concerts
ATTACH;FMTTYPE=image/jpeg:https://rawstornesingers.co.uk/wp-content/uploads/2024/06/wikimedia-640px-Choumoff_-_Gabriel_Faure_at_the_piano-1.jpeg
ORGANIZER;CN="Rawstorne Singers":MAILTO:rawstornesingers@gmail.com
END:VEVENT
BEGIN:VEVENT
DTSTART;TZID=Europe/London:20230415T000000
DTEND;TZID=Europe/London:20230416T235959
DTSTAMP:20260419T222134
CREATED:20240618T102522Z
LAST-MODIFIED:20240618T121659Z
UID:354-1681516800-1681689599@rawstornesingers.co.uk
SUMMARY:Services at Chester Cathedral
DESCRIPTION:Sunday Services in the Cathedral
URL:https://rawstornesingers.co.uk/event/services-at-chester-cathedral/
LOCATION:Chester Cathedral\, St Werbergh Street\, Chester\, CH12DY\, United Kingdom
CATEGORIES:Cathedral Services
ATTACH;FMTTYPE=image/jpeg:https://rawstornesingers.co.uk/wp-content/uploads/2024/06/chester.jpg
ORGANIZER;CN="Rawstorne Singers":MAILTO:rawstornesingers@gmail.com
END:VEVENT
BEGIN:VEVENT
DTSTART;TZID=Europe/London:20230219T170000
DTEND;TZID=Europe/London:20230219T170000
DTSTAMP:20260419T222134
CREATED:20240618T102522Z
LAST-MODIFIED:20240618T121407Z
UID:355-1676826000-1676826000@rawstornesingers.co.uk
SUMMARY:St Georges Preston - Evensong
DESCRIPTION:Rawstorne singers are singing Evensong at St George the Martyr in Preston.
URL:https://rawstornesingers.co.uk/event/st-georges-preston-evensong/
LOCATION:St George the Martyr\, Georges Road\, Preston\, PR12NP\, United Kingdom
CATEGORIES:Church Services
ATTACH;FMTTYPE=image/jpeg:https://rawstornesingers.co.uk/wp-content/uploads/2024/06/St-George-Preston-2.jpg
ORGANIZER;CN="Rawstorne Singers":MAILTO:rawstornesingers@gmail.com
END:VEVENT
BEGIN:VEVENT
DTSTART;TZID=Europe/London:20221214T193000
DTEND;TZID=Europe/London:20221214T193000
DTSTAMP:20260419T222134
CREATED:20240618T102548Z
LAST-MODIFIED:20240618T123925Z
UID:356-1671046200-1671046200@rawstornesingers.co.uk
SUMMARY:Christmas Concert
DESCRIPTION:Rehearsal is on Wednesday 7th December 2022 at 7.30pm at St Ambrose Church\, Moss Lane\, Leyland\, PR25 4XA.There is a £5 charge for use of music and light refreshments will be provided.\nThen join the Rawstorne Singers on Wednesday 14th December 2022 in a Christmas Concert at 7.30pm at St Ambrose Church.\nEveryone is welcome to attend\, free of charge\, but donations gladly received.\nPlease let us know if you would like to join us by booking your place via email or our website by Friday 2nd December 2022.
URL:https://rawstornesingers.co.uk/event/christmas-concert-3/
LOCATION:St Ambrose Church\, Moss Ln\, Leyland\, PR25 4XA\, United Kingdom
CATEGORIES:Come and Sing,Concerts
ATTACH;FMTTYPE=image/jpeg:https://rawstornesingers.co.uk/wp-content/uploads/2024/06/St_Ambrose_Church_Leyland_-_geograph.org_.uk_-_800569-2-e1718714111977.jpg
ORGANIZER;CN="Rawstorne Singers":MAILTO:rawstornesingers@gmail.com
END:VEVENT
BEGIN:VEVENT
DTSTART;TZID=Europe/London:20221207T193000
DTEND;TZID=Europe/London:20221207T193000
DTSTAMP:20260419T222134
CREATED:20240618T102548Z
LAST-MODIFIED:20240618T123847Z
UID:357-1670441400-1670441400@rawstornesingers.co.uk
SUMMARY:Come and Sing - Christmas - Rehearsal
DESCRIPTION:Rehearsal is on Wednesday 7th December 2022 at 7.30pm at St Ambrose Church\, Moss Lane\, Leyland\, PR25 4XA.There is a £5 charge for use of music and light refreshments will be provided.\nThen join the Rawstorne Singers on Wednesday 14th December 2022 in a Christmas Concert at 7.30pm at St Ambrose Church.\nEveryone is welcome to attend\, free of charge\, but donations gladly received.\nPlease let us know if you would like to join us by booking your place via email or our website by Friday 2nd December 2022.
URL:https://rawstornesingers.co.uk/event/come-and-sing-christmas-rehearsal-2/
LOCATION:St Ambrose Church\, Moss Ln\, Leyland\, PR25 4XA\, United Kingdom
CATEGORIES:Come and Sing
ATTACH;FMTTYPE=image/jpeg:https://rawstornesingers.co.uk/wp-content/uploads/2024/06/Concert_blank.jpg
ORGANIZER;CN="Rawstorne Singers":MAILTO:rawstornesingers@gmail.com
END:VEVENT
BEGIN:VEVENT
DTSTART;TZID=Europe/London:20221202T190000
DTEND;TZID=Europe/London:20221202T210000
DTSTAMP:20260419T222134
CREATED:20240618T102548Z
LAST-MODIFIED:20240618T120959Z
UID:358-1670007600-1670014800@rawstornesingers.co.uk
SUMMARY:Lights of Love - Blackburn cathedral
DESCRIPTION:Derian House’s annual Lights of Love celebration returns to illuminate Blackburn Cathedral on Friday 2nd December 2022 at 7:30pm.Join us for a magical evening of your favourite Christmas carols performed by The Rawstorne Singers as well as uplifting music from The Local Vocals Choir\, and more!\nRefreshments will be available to purchase on the evening together with a range of Derian House merchandise and Christmas gifts. \nhttps://www.derianhouse.co.uk/events/lights-of-love-2022/
URL:https://rawstornesingers.co.uk/event/lights-of-love-blackburn-cathedral-2/
LOCATION:Blackburn Cathedral\, Cathedral Close\, Blackburn\, BB1 5AA\, United Kingdom
CATEGORIES:Concerts
ATTACH;FMTTYPE=image/jpeg:https://rawstornesingers.co.uk/wp-content/uploads/2024/06/LOL2022.jpg
ORGANIZER;CN="Rawstorne Singers":MAILTO:rawstornesingers@gmail.com
END:VEVENT
BEGIN:VEVENT
DTSTART;TZID=Europe/London:20221030T000000
DTEND;TZID=Europe/London:20221030T235959
DTSTAMP:20260419T222134
CREATED:20240618T102548Z
LAST-MODIFIED:20240618T120916Z
UID:359-1667088000-1667174399@rawstornesingers.co.uk
SUMMARY:Services at Blackburn Cathedral
DESCRIPTION:Sunday Services in the Cathedral
URL:https://rawstornesingers.co.uk/event/services-at-blackburn-cathedral-5/
LOCATION:Blackburn Cathedral\, Cathedral Close\, Blackburn\, BB1 5AA\, United Kingdom
CATEGORIES:Cathedral Services
ATTACH;FMTTYPE=image/jpeg:https://rawstornesingers.co.uk/wp-content/uploads/2024/06/Blackburn_Cathedral_from_the_northwest_2.jpeg
ORGANIZER;CN="Rawstorne Singers":MAILTO:rawstornesingers@gmail.com
END:VEVENT
BEGIN:VEVENT
DTSTART;TZID=Europe/London:20220801T000000
DTEND;TZID=Europe/London:20220807T235959
DTSTAMP:20260419T222134
CREATED:20240618T102549Z
LAST-MODIFIED:20240618T120642Z
UID:360-1659312000-1659916799@rawstornesingers.co.uk
SUMMARY:Summer course at Exeter Cathedral
DESCRIPTION:
URL:https://rawstornesingers.co.uk/event/summer-course-at-exeter-cathedral/
LOCATION:Exeter Cathedral\, 1 The Cloisters\, Exeter\, EX11HS\, United Kingdom
CATEGORIES:Cathedral Services,Course
ATTACH;FMTTYPE=image/jpeg:https://rawstornesingers.co.uk/wp-content/uploads/2024/06/Exeter.jpeg
ORGANIZER;CN="Rawstorne Singers":MAILTO:rawstornesingers@gmail.com
END:VEVENT
BEGIN:VEVENT
DTSTART;TZID=Europe/London:20220710T170000
DTEND;TZID=Europe/London:20220710T190000
DTSTAMP:20260419T222134
CREATED:20240618T102603Z
LAST-MODIFIED:20240618T122804Z
UID:361-1657472400-1657479600@rawstornesingers.co.uk
SUMMARY:St Peters Scorton - Evensong & Summer Concert
DESCRIPTION:Rawstorne singers are singing Evensong at St Peters Scorton\, followed by some light summer music.
URL:https://rawstornesingers.co.uk/event/st-peters-scorton-evensong-summer-concert/
LOCATION:St Peters Church Scorton\, St Mary & St James Presbytery\, Snowhill Ln Scorton\, Preston\, PR3 1AY\, United Kingdom
CATEGORIES:Church Services,Concerts
ATTACH;FMTTYPE=image/jpeg:https://rawstornesingers.co.uk/wp-content/uploads/2024/06/640px-St_Peters_Church_Scorton_2.jpeg
ORGANIZER;CN="Rawstorne Singers":MAILTO:rawstornesingers@gmail.com
END:VEVENT
BEGIN:VEVENT
DTSTART;TZID=Europe/London:20220605T100000
DTEND;TZID=Europe/London:20220605T123000
DTSTAMP:20260419T222134
CREATED:20240618T102603Z
LAST-MODIFIED:20240618T120058Z
UID:362-1654423200-1654432200@rawstornesingers.co.uk
SUMMARY:Bury Parish Church - Eucharist
DESCRIPTION:Rawstorne singers are joining with the choir of Bury Parish church to sing the Eucharist Service
URL:https://rawstornesingers.co.uk/event/bury-parish-church-eucharist/
CATEGORIES:Church Services
ATTACH;FMTTYPE=image/jpeg:https://rawstornesingers.co.uk/wp-content/uploads/2024/06/Bury_Parish_Church-scaled.jpg
ORGANIZER;CN="Rawstorne Singers":MAILTO:rawstornesingers@gmail.com
END:VEVENT
BEGIN:VEVENT
DTSTART;TZID=Europe/London:20220508T170000
DTEND;TZID=Europe/London:20220508T170000
DTSTAMP:20260419T222134
CREATED:20240618T102603Z
LAST-MODIFIED:20240618T120025Z
UID:363-1652029200-1652029200@rawstornesingers.co.uk
SUMMARY:St Georges Preston - Evensong
DESCRIPTION:Rawstorne singers are singing Evensong at St George the Martyr in Preston.
URL:https://rawstornesingers.co.uk/event/st-georges-preston-evensong-2/
LOCATION:St George the Martyr\, Georges Road\, Preston\, PR12NP\, United Kingdom
CATEGORIES:Church Services
ATTACH;FMTTYPE=image/jpeg:https://rawstornesingers.co.uk/wp-content/uploads/2024/06/St-George-Preston-2.jpg
ORGANIZER;CN="Rawstorne Singers":MAILTO:rawstornesingers@gmail.com
END:VEVENT
BEGIN:VEVENT
DTSTART;TZID=Europe/London:20220430T000000
DTEND;TZID=Europe/London:20220430T235959
DTSTAMP:20260419T222134
CREATED:20240618T102603Z
LAST-MODIFIED:20240618T115945Z
UID:364-1651276800-1651363199@rawstornesingers.co.uk
SUMMARY:Come and Sing - Choruses from the Messiah by G.F.Handel
DESCRIPTION:The day will run from 10am to 5pm ending with a performance Òrun-throughÓ of all the choruses\, which non-singing guests are welcome to attend\, free of charge but we request a donation.9.30 to 10.15 Arrival and Registration in the Church when coffee and biscuits will be available.\n10.15 to 12.15 Rehearsal in the Church.\n12.15 to 1.15 Buffet Sandwich Lunch\n1.15 to 2.30 Rehearsal in the Church.\n2.30 to 3.00 Tea/Coffee biscuit break.\n3.00 to 4.00 Final Rehearsal\n4.15 – 5.00 Performance \nIf you would like to attend this event\, please RSVP to this event and we will be In touch with payment details or complete a booking form and return it with the full amount payable (£15) by Friday\, 22nd April 2022 to:\nThe Rawstorne Singers Come and Sing 2022 Ascalon\, Gill Lane\, Longton\, Preston\, PR4 4SR\nPlease make cheques payable to The Rawstorne Singers.\nIf you would like to make a BACS payment\, email rawstornesingers@gmail.com for bank details.
URL:https://rawstornesingers.co.uk/event/come-and-sing-choruses-from-the-messiah-by-g-f-handel/
CATEGORIES:Come and Sing,Concerts
ATTACH;FMTTYPE=image/jpeg:https://rawstornesingers.co.uk/wp-content/uploads/2024/06/Handel.jpg
ORGANIZER;CN="Rawstorne Singers":MAILTO:rawstornesingers@gmail.com
END:VEVENT
BEGIN:VEVENT
DTSTART;TZID=Europe/London:20220219T000000
DTEND;TZID=Europe/London:20220219T235959
DTSTAMP:20260419T222134
CREATED:20240618T102603Z
LAST-MODIFIED:20240618T115844Z
UID:365-1645228800-1645315199@rawstornesingers.co.uk
SUMMARY:Services at Liverpool Cathedral
DESCRIPTION:
URL:https://rawstornesingers.co.uk/event/services-at-liverpool-cathedral-2/
LOCATION:Liverpool Cathedral\, St James Mt\, Liverpool\, L17AZ\, United Kingdom
CATEGORIES:Cathedral Services
ATTACH;FMTTYPE=image/jpeg:https://rawstornesingers.co.uk/wp-content/uploads/2024/06/640px-Anglican_Cathedral_Liverpool-2.jpeg
ORGANIZER;CN="Rawstorne Singers":MAILTO:rawstornesingers@gmail.com
END:VEVENT
BEGIN:VEVENT
DTSTART;TZID=Europe/London:20211212T190000
DTEND;TZID=Europe/London:20211212T210000
DTSTAMP:20260419T222134
CREATED:20240618T102618Z
LAST-MODIFIED:20240618T115752Z
UID:366-1639335600-1639342800@rawstornesingers.co.uk
SUMMARY:St Peters Scorton - Evensong
DESCRIPTION:Evensong followed by additional music
URL:https://rawstornesingers.co.uk/event/st-peters-scorton-evensong-summer-concert-2/
LOCATION:St Peters Church Scorton\, St Mary & St James Presbytery\, Snowhill Ln Scorton\, Preston\, PR3 1AY\, United Kingdom
CATEGORIES:Church Services
ATTACH;FMTTYPE=image/jpeg:https://rawstornesingers.co.uk/wp-content/uploads/2024/06/St-Peters-Snow-scene.jpg
ORGANIZER;CN="Rawstorne Singers":MAILTO:rawstornesingers@gmail.com
END:VEVENT
BEGIN:VEVENT
DTSTART;TZID=Europe/London:20211203T190000
DTEND;TZID=Europe/London:20211203T210000
DTSTAMP:20260419T222134
CREATED:20240618T102618Z
LAST-MODIFIED:20240618T115501Z
UID:367-1638558000-1638565200@rawstornesingers.co.uk
SUMMARY:Derian House Charity Event - Blackburn cathedral
DESCRIPTION:
URL:https://rawstornesingers.co.uk/event/lights-of-love-blackburn-cathedral-3/
LOCATION:Blackburn Cathedral\, Cathedral Close\, Blackburn\, BB1 5AA\, United Kingdom
CATEGORIES:Concerts
ATTACH;FMTTYPE=image/png:https://rawstornesingers.co.uk/wp-content/uploads/2024/06/Copy-of-derian-house.png
ORGANIZER;CN="Rawstorne Singers":MAILTO:rawstornesingers@gmail.com
END:VEVENT
BEGIN:VEVENT
DTSTART;TZID=Europe/London:20210816T000000
DTEND;TZID=Europe/London:20210822T235959
DTSTAMP:20260419T222134
CREATED:20240618T102618Z
LAST-MODIFIED:20240618T121926Z
UID:368-1629072000-1629676799@rawstornesingers.co.uk
SUMMARY:Summer course at Wells Cathedral
DESCRIPTION:
URL:https://rawstornesingers.co.uk/event/summer-course-at-wells-cathedral/
CATEGORIES:Cathedral Services,Course
ATTACH;FMTTYPE=image/jpeg:https://rawstornesingers.co.uk/wp-content/uploads/2024/06/640px-Wells_Cathedral_West_front-2.jpeg
ORGANIZER;CN="Rawstorne Singers":MAILTO:rawstornesingers@gmail.com
END:VEVENT
END:VCALENDAR