BEGIN:VCALENDAR
VERSION:2.0
PRODID:-//RawstorneSingers - ECPv6.15.20//NONSGML v1.0//EN
CALSCALE:GREGORIAN
METHOD:PUBLISH
X-WR-CALNAME:RawstorneSingers
X-ORIGINAL-URL:https://rawstornesingers.co.uk
X-WR-CALDESC:Events for RawstorneSingers
REFRESH-INTERVAL;VALUE=DURATION:PT1H
X-Robots-Tag:noindex
X-PUBLISHED-TTL:PT1H
BEGIN:VTIMEZONE
TZID:Europe/London
BEGIN:DAYLIGHT
TZOFFSETFROM:+0000
TZOFFSETTO:+0100
TZNAME:BST
DTSTART:20180325T010000
END:DAYLIGHT
BEGIN:STANDARD
TZOFFSETFROM:+0100
TZOFFSETTO:+0000
TZNAME:GMT
DTSTART:20181028T010000
END:STANDARD
BEGIN:DAYLIGHT
TZOFFSETFROM:+0000
TZOFFSETTO:+0100
TZNAME:BST
DTSTART:20190331T010000
END:DAYLIGHT
BEGIN:STANDARD
TZOFFSETFROM:+0100
TZOFFSETTO:+0000
TZNAME:GMT
DTSTART:20191027T010000
END:STANDARD
BEGIN:DAYLIGHT
TZOFFSETFROM:+0000
TZOFFSETTO:+0100
TZNAME:BST
DTSTART:20200329T010000
END:DAYLIGHT
BEGIN:STANDARD
TZOFFSETFROM:+0100
TZOFFSETTO:+0000
TZNAME:GMT
DTSTART:20201025T010000
END:STANDARD
END:VTIMEZONE
BEGIN:VEVENT
DTSTART;TZID=Europe/London:20190812T000000
DTEND;TZID=Europe/London:20190818T235959
DTSTAMP:20260422T091823
CREATED:20240618T102619Z
LAST-MODIFIED:20240618T115217Z
UID:370-1565568000-1566172799@rawstornesingers.co.uk
SUMMARY:Summer course at Worcester Cathedral
DESCRIPTION:
URL:https://rawstornesingers.co.uk/event/summer-course-at-worcester-cathedral/
CATEGORIES:Cathedral Services,Course
ATTACH;FMTTYPE=image/jpeg:https://rawstornesingers.co.uk/wp-content/uploads/2024/06/Worcester_cathedral.jpg
ORGANIZER;CN="Rawstorne Singers":MAILTO:rawstornesingers@gmail.com
END:VEVENT
END:VCALENDAR