BEGIN:VCALENDAR
VERSION:2.0
PRODID:-//RawstorneSingers - ECPv6.15.20//NONSGML v1.0//EN
CALSCALE:GREGORIAN
METHOD:PUBLISH
X-WR-CALNAME:RawstorneSingers
X-ORIGINAL-URL:https://rawstornesingers.co.uk
X-WR-CALDESC:Events for RawstorneSingers
REFRESH-INTERVAL;VALUE=DURATION:PT1H
X-Robots-Tag:noindex
X-PUBLISHED-TTL:PT1H
BEGIN:VTIMEZONE
TZID:Europe/London
BEGIN:DAYLIGHT
TZOFFSETFROM:+0000
TZOFFSETTO:+0100
TZNAME:BST
DTSTART:20240331T010000
END:DAYLIGHT
BEGIN:STANDARD
TZOFFSETFROM:+0100
TZOFFSETTO:+0000
TZNAME:GMT
DTSTART:20241027T010000
END:STANDARD
BEGIN:DAYLIGHT
TZOFFSETFROM:+0000
TZOFFSETTO:+0100
TZNAME:BST
DTSTART:20250330T010000
END:DAYLIGHT
BEGIN:STANDARD
TZOFFSETFROM:+0100
TZOFFSETTO:+0000
TZNAME:GMT
DTSTART:20251026T010000
END:STANDARD
BEGIN:DAYLIGHT
TZOFFSETFROM:+0000
TZOFFSETTO:+0100
TZNAME:BST
DTSTART:20260329T010000
END:DAYLIGHT
BEGIN:STANDARD
TZOFFSETFROM:+0100
TZOFFSETTO:+0000
TZNAME:GMT
DTSTART:20261025T010000
END:STANDARD
END:VTIMEZONE
BEGIN:VEVENT
DTSTART;TZID=Europe/London:20250406T000000
DTEND;TZID=Europe/London:20250406T235959
DTSTAMP:20260422T124916
CREATED:20250123T165956Z
LAST-MODIFIED:20250123T170012Z
UID:10111-1743897600-1743983999@rawstornesingers.co.uk
SUMMARY:Services at Liverpool Metropolitan Cathedral
DESCRIPTION:
URL:https://rawstornesingers.co.uk/event/services-at-liverpool-metropolitan-cathedral-2/
LOCATION:Liverpool Metropolitan Cathedral\, Cathedral House\, Mount Pleasant\, Liverpool\, L3 5TQ\, United Kingdom
CATEGORIES:Cathedral Services
ATTACH;FMTTYPE=image/jpeg:https://rawstornesingers.co.uk/wp-content/uploads/2024/11/Liverpool_Metropolitan_Cathedral_Exterior_Liverpool_UK_-_Diliff.jpg
ORGANIZER;CN="Rawstorne Singers":MAILTO:rawstornesingers@gmail.com
END:VEVENT
END:VCALENDAR