BEGIN:VCALENDAR
VERSION:2.0
PRODID:-//RawstorneSingers - ECPv6.15.20//NONSGML v1.0//EN
CALSCALE:GREGORIAN
METHOD:PUBLISH
X-WR-CALNAME:RawstorneSingers
X-ORIGINAL-URL:https://rawstornesingers.co.uk
X-WR-CALDESC:Events for RawstorneSingers
REFRESH-INTERVAL;VALUE=DURATION:PT1H
X-Robots-Tag:noindex
X-PUBLISHED-TTL:PT1H
BEGIN:VTIMEZONE
TZID:Europe/London
BEGIN:DAYLIGHT
TZOFFSETFROM:+0000
TZOFFSETTO:+0100
TZNAME:BST
DTSTART:20240331T010000
END:DAYLIGHT
BEGIN:STANDARD
TZOFFSETFROM:+0100
TZOFFSETTO:+0000
TZNAME:GMT
DTSTART:20241027T010000
END:STANDARD
BEGIN:DAYLIGHT
TZOFFSETFROM:+0000
TZOFFSETTO:+0100
TZNAME:BST
DTSTART:20250330T010000
END:DAYLIGHT
BEGIN:STANDARD
TZOFFSETFROM:+0100
TZOFFSETTO:+0000
TZNAME:GMT
DTSTART:20251026T010000
END:STANDARD
BEGIN:DAYLIGHT
TZOFFSETFROM:+0000
TZOFFSETTO:+0100
TZNAME:BST
DTSTART:20260329T010000
END:DAYLIGHT
BEGIN:STANDARD
TZOFFSETFROM:+0100
TZOFFSETTO:+0000
TZNAME:GMT
DTSTART:20261025T010000
END:STANDARD
END:VTIMEZONE
BEGIN:VEVENT
DTSTART;TZID=Europe/London:20250813T000000
DTEND;TZID=Europe/London:20250817T235959
DTSTAMP:20260421T225755
CREATED:20240622T220100Z
LAST-MODIFIED:20250603T214232Z
UID:634-1755043200-1755475199@rawstornesingers.co.uk
SUMMARY:Tewkesbury Abbey - Summer Visit
DESCRIPTION:Summer Visit \nThursday\, 14 August 2025 \nResponses Herbert Sumsion \nPsalm TBC \nCanticles  Charles Hylton Stewart in C \nAnthem Philip Wilby : Vox Christi \nFriday\, 15 August 2025 \nResponses Richard Ayleward \nPsalm TBC \nCanticles E J Moeran in D \nAnthem Felix Mendselssohn : Verleih uns frieden \nSaturday\, 16 August 2025 \nResponses Herbert Sumsion \nPsalm TBC \nCanticles Herbert Brewer in D \nAnthem Herbert Howells : Like as the hart \nSunday\, 17 August 2025 \nEucharist \nMass Setting Psalm TBC \nMotet C V Stanford in B-flat \nC V Stanford : Purest and highest \nEvensong \nIntroit Anton Bruckner : Locus iste \nResponses Stephen Carletti \nPsalm TBC \nCanticles C V Stanford in C \nAnthem John Rutter : This is the day
URL:https://rawstornesingers.co.uk/event/tewkesbury-abbey-summer-visit/
LOCATION:Tewkesbury Abbey\, Church Street\, Tewkesbury\, GL20 5RZ\, United Kingdom
CATEGORIES:Cathedral Services,Course
ATTACH;FMTTYPE=image/jpeg:https://rawstornesingers.co.uk/wp-content/uploads/2024/06/1024px-Tewkesbury_Abbey.jpg
ORGANIZER;CN="Rawstorne Singers":MAILTO:rawstornesingers@gmail.com
END:VEVENT
END:VCALENDAR